BEGIN:VCALENDAR
VERSION:2.0
PRODID:-//Frass Box - ECPv6.15.17.1//NONSGML v1.0//EN
CALSCALE:GREGORIAN
METHOD:PUBLISH
X-WR-CALNAME:Frass Box
X-ORIGINAL-URL:https://frassboxcannabis.com
X-WR-CALDESC:Events for Frass Box
REFRESH-INTERVAL;VALUE=DURATION:PT1H
X-Robots-Tag:noindex
X-PUBLISHED-TTL:PT1H
BEGIN:VTIMEZONE
TZID:America/New_York
BEGIN:DAYLIGHT
TZOFFSETFROM:-0500
TZOFFSETTO:-0400
TZNAME:EDT
DTSTART:20230312T070000
END:DAYLIGHT
BEGIN:STANDARD
TZOFFSETFROM:-0400
TZOFFSETTO:-0500
TZNAME:EST
DTSTART:20231105T060000
END:STANDARD
BEGIN:DAYLIGHT
TZOFFSETFROM:-0500
TZOFFSETTO:-0400
TZNAME:EDT
DTSTART:20240310T070000
END:DAYLIGHT
BEGIN:STANDARD
TZOFFSETFROM:-0400
TZOFFSETTO:-0500
TZNAME:EST
DTSTART:20241103T060000
END:STANDARD
BEGIN:DAYLIGHT
TZOFFSETFROM:-0500
TZOFFSETTO:-0400
TZNAME:EDT
DTSTART:20250309T070000
END:DAYLIGHT
BEGIN:STANDARD
TZOFFSETFROM:-0400
TZOFFSETTO:-0500
TZNAME:EST
DTSTART:20251102T060000
END:STANDARD
BEGIN:DAYLIGHT
TZOFFSETFROM:-0500
TZOFFSETTO:-0400
TZNAME:EDT
DTSTART:20260308T070000
END:DAYLIGHT
BEGIN:STANDARD
TZOFFSETFROM:-0400
TZOFFSETTO:-0500
TZNAME:EST
DTSTART:20261101T060000
END:STANDARD
END:VTIMEZONE
BEGIN:VEVENT
DTSTART;TZID=America/New_York:20250619T140000
DTEND;TZID=America/New_York:20250619T190000
DTSTAMP:20260420T024117
CREATED:20250610T162925Z
LAST-MODIFIED:20250616T000947Z
UID:30044-1750341600-1750359600@frassboxcannabis.com
SUMMARY:Juneteenth Celebration
DESCRIPTION:Frass Box Hosts its first Juneteenth Celebration. \nCome join us as we celebrate a day of Unity\, Freedom and Legacy with the community.  Enjoy the food\, Sizzling sales\, Vibes and Music by DJ Claffmatic. \nA free event for the community!! \n  \nBBQ From 3-7
URL:https://frassboxcannabis.com/event/juneteenth-celebration-2/
LOCATION:FRASS BOX CANNABIS\, 3633 KINGSBRIDGE AVE\, BRONX\, 10463\, United States
CATEGORIES:Pop UP
ATTACH;FMTTYPE=image/png:https://frassboxcannabis.com/wp-content/uploads/2025/06/POP-UP-Fliers-9.png
END:VEVENT
BEGIN:VEVENT
DTSTART;TZID=America/New_York:20250618T110000
DTEND;TZID=America/New_York:20250618T140000
DTSTAMP:20260420T024117
CREATED:20250615T234059Z
LAST-MODIFIED:20250615T234100Z
UID:30096-1750244400-1750255200@frassboxcannabis.com
SUMMARY:Dime Pop Up
DESCRIPTION:Dime Industries providing the best Distillate oils packed with amazing flavors
URL:https://frassboxcannabis.com/event/dime-pop-up-3/
LOCATION:FRASS BOX CANNABIS\, 3633 KINGSBRIDGE AVE\, BRONX\, 10463\, United States
CATEGORIES:Pop UP
ATTACH;FMTTYPE=image/png:https://frassboxcannabis.com/wp-content/uploads/2025/06/POP-UP-Fliers-7.png
END:VEVENT
BEGIN:VEVENT
DTSTART;TZID=America/New_York:20250617T150000
DTEND;TZID=America/New_York:20250617T180000
DTSTAMP:20260420T024117
CREATED:20250615T233615Z
LAST-MODIFIED:20250615T233638Z
UID:30093-1750172400-1750183200@frassboxcannabis.com
SUMMARY:NAMA Pop Up
DESCRIPTION:Come learn about NY’s Finest 2 pack edibles NAMA. \n 
URL:https://frassboxcannabis.com/event/nama-pop-up/
LOCATION:FRASS BOX CANNABIS\, 3633 KINGSBRIDGE AVE\, BRONX\, 10463\, United States
CATEGORIES:Pop UP
ATTACH;FMTTYPE=image/png:https://frassboxcannabis.com/wp-content/uploads/2025/06/POP-UP-Fliers-6.png
END:VEVENT
BEGIN:VEVENT
DTSTART;TZID=America/New_York:20250610T160000
DTEND;TZID=America/New_York:20250610T180000
DTSTAMP:20260420T024117
CREATED:20250608T223520Z
LAST-MODIFIED:20250608T223522Z
UID:30031-1749571200-1749578400@frassboxcannabis.com
SUMMARY:Hudson Cannabis/ Lowell Smokes Pop Up
DESCRIPTION:Come learn about NY’s most prestigious brand of Flower and vibe with a great Crew!
URL:https://frassboxcannabis.com/event/hudson-cannabis-lowell-smokes-pop-up/
CATEGORIES:Pop UP
ATTACH;FMTTYPE=image/png:https://frassboxcannabis.com/wp-content/uploads/2025/01/POP-UP-EVENT-AT-FRASSBOX-CANNABIS-1.png
END:VEVENT
BEGIN:VEVENT
DTSTART;TZID=America/New_York:20250606T220000
DTEND;TZID=America/New_York:20250606T220000
DTSTAMP:20260420T024117
CREATED:20250519T231110Z
LAST-MODIFIED:20250519T231635Z
UID:29793-1749247200-1749247200@frassboxcannabis.com
SUMMARY:Salsa Class @Frass Box
DESCRIPTION:Come Learn to Salsa Dance With the Highest Vibes \n1 hour class followed by \n\n\n1 hour of  freestyle dancing \n\n\n 
URL:https://frassboxcannabis.com/event/salsa-class-frass-box/
CATEGORIES:Class
ATTACH;FMTTYPE=image/png:https://frassboxcannabis.com/wp-content/uploads/2025/05/Salsa-class.png
END:VEVENT
BEGIN:VEVENT
DTSTART;TZID=America/New_York:20250601T083000
DTEND;TZID=America/New_York:20250601T093000
DTSTAMP:20260420T024117
CREATED:20250421T152037Z
LAST-MODIFIED:20250528T210808Z
UID:29380-1748766600-1748770200@frassboxcannabis.com
SUMMARY:Summer Yoga @ Frass Box-Bronx
DESCRIPTION:Looking for Sunday morning Yoga in the Bronx?\n\nJoin us at Frass Box Dispensary in Riverdale for a slow\, all-levels yoga flow in a welcoming space where you can breathe\, stretch\, and elevate.\n\nFeel free to shop and elevate before class and enjoy the vibes!\n\nWe’ll be here the first Sunday of every month\, all spring long. Click on the link for more. https://www.highyoganyc.com/event-details/yoga-at-frass-box-june-edition
URL:https://frassboxcannabis.com/event/may-yoga-frass-box/
LOCATION:FRASS BOX CANNABIS\, 3633 KINGSBRIDGE AVE\, BRONX\, 10463\, United States
CATEGORIES:Class
ATTACH;FMTTYPE=image/png:https://frassboxcannabis.com/wp-content/uploads/2025/01/image1.png
END:VEVENT
BEGIN:VEVENT
DTSTART;TZID=America/New_York:20250516T150000
DTEND;TZID=America/New_York:20250516T180000
DTSTAMP:20260420T024117
CREATED:20250512T175103Z
LAST-MODIFIED:20250602T181410Z
UID:29700-1747407600-1747418400@frassboxcannabis.com
SUMMARY:Packs Pop Up
DESCRIPTION:Come Learn about the brand\, and vibe.
URL:https://frassboxcannabis.com/event/packs-pop-up-3/
ATTACH;FMTTYPE=image/png:https://frassboxcannabis.com/wp-content/uploads/2025/01/POP-UP-Fliers-1-1.png
END:VEVENT
BEGIN:VEVENT
DTSTART;TZID=America/New_York:20250510T170000
DTEND;TZID=America/New_York:20250510T190000
DTSTAMP:20260420T024117
CREATED:20250427T150155Z
LAST-MODIFIED:20250427T150155Z
UID:29430-1746896400-1746903600@frassboxcannabis.com
SUMMARY:Mother's Day Candle Workshop
DESCRIPTION:Mother’s Day activity in the Bronx!  If you want to spend a Saturday afternoon creating something beautiful for mom or with mom\, we got something special planned. \nJoin us for a candle-making experience at Frass Box! \nIn partnership with Luna Jars\, we’re bringing you a creative workshop where you’ll craft your own custom-scented 9 oz soy candle in a beautiful vessel that you will want to keep reusing. \nBuy your tickets now before they sell out. \nThe event is 21 and over. ID is required!
URL:https://frassboxcannabis.com/event/mothers-day-candle-workshop/
LOCATION:FRASS BOX CANNABIS\, 3633 KINGSBRIDGE AVE\, BRONX\, 10463\, United States
ATTACH;FMTTYPE=image/png:https://frassboxcannabis.com/wp-content/uploads/2025/04/image.png
END:VEVENT
BEGIN:VEVENT
DTSTART;TZID=America/New_York:20250509T220000
DTEND;TZID=America/New_York:20250509T235900
DTSTAMP:20260420T024117
CREATED:20250427T155543Z
LAST-MODIFIED:20250427T155828Z
UID:29437-1746828000-1746835140@frassboxcannabis.com
SUMMARY:Salsa Class in the Bronx
DESCRIPTION:Frass Box\, in partnership with La Fuerza Dance Studio is bringing the Latin flavors to the Bronx! \nJoin us this coming Friday\, May 9th for an after-store-hours dance event. \nLa Fuerza Dance Studio will conduct a 1hr Salsa Class starting at 10pm. Then\, you will spend 1 hr.\, from 11pm-12am\, to practice your new moves. \nShop and elevate before class and enjoy the vibes. \nSpace is limited so get your tickets now before they sell out! \n 
URL:https://frassboxcannabis.com/event/salsa-class-in-the-bronx/
LOCATION:FRASS BOX CANNABIS\, 3633 KINGSBRIDGE AVE\, BRONX\, 10463\, United States
ATTACH;FMTTYPE=image/jpeg:https://frassboxcannabis.com/wp-content/uploads/2025/04/Screenshot_20250426_111926_Gmail-scaled.jpg
END:VEVENT
BEGIN:VEVENT
DTSTART;TZID=America/New_York:20250418T120000
DTEND;TZID=America/New_York:20250418T170000
DTSTAMP:20260420T024117
CREATED:20250415T013728Z
LAST-MODIFIED:20250415T013728Z
UID:29268-1744977600-1744995600@frassboxcannabis.com
SUMMARY:420 Weekend Celebration
DESCRIPTION:Come and celebrate the 420 weekend with us and enjoy the food and music. Take advantage of the deals. Connect with reps from your favorite brands. Enter our raffle. \nThe fun begins on Friday 4/18 and runs through Sunday 4/20. \nLet the good times roll!
URL:https://frassboxcannabis.com/event/420-weekend-celebration/
LOCATION:FRASS BOX CANNABIS\, 3633 KINGSBRIDGE AVE\, BRONX\, 10463\, United States
CATEGORIES:Pop UP
ATTACH;FMTTYPE=image/png:https://frassboxcannabis.com/wp-content/uploads/2025/04/420-flyer.png
END:VEVENT
BEGIN:VEVENT
DTSTART;TZID=America/New_York:20250413T160000
DTEND;TZID=America/New_York:20250413T173000
DTSTAMP:20260420T024117
CREATED:20250403T222419Z
LAST-MODIFIED:20250403T222419Z
UID:28818-1744560000-1744565400@frassboxcannabis.com
SUMMARY:Candle Making Workshop at the Frass Box
DESCRIPTION:Candle Making Workshop \nJoin us for a candle-making experience at Frass Box! \nIn partnership with Luna Jars\, we are bringing you a creative workshop where you will craft your own custom-scented soy candle. \nAll materials provided. \n21 and over\, must bring ID \nSpots are limited\, reserve yours before they sell out!!
URL:https://frassboxcannabis.com/event/candle-making-workshop-at-the-frass-box/
LOCATION:FRASS BOX CANNABIS\, 3633 KINGSBRIDGE AVE\, BRONX\, 10463\, United States
ATTACH;FMTTYPE=image/png:https://frassboxcannabis.com/wp-content/uploads/2025/01/candlemakingflyer.png
END:VEVENT
BEGIN:VEVENT
DTSTART;TZID=America/New_York:20250302T083000
DTEND;TZID=America/New_York:20250302T093000
DTSTAMP:20260420T024117
CREATED:20250216T165326Z
LAST-MODIFIED:20250318T152555Z
UID:27913-1740904200-1740907800@frassboxcannabis.com
SUMMARY:H!GH YOGA NYC @ Frass Box- A Hatha Yoga Event
DESCRIPTION:
URL:https://frassboxcannabis.com/event/hgh-yoga-nyc-frass-box-a-hatha-yoga-event/
LOCATION:FRASS BOX CANNABIS\, 3633 KINGSBRIDGE AVE\, BRONX\, 10463\, United States
ATTACH;FMTTYPE=image/jpeg:https://frassboxcannabis.com/wp-content/uploads/2025/02/Blue-Grunge-Illustrative-Yoga-and-Wellness-Flyer-1080-x-1350-px.zip-2.jpg
END:VEVENT
BEGIN:VEVENT
DTSTART;TZID=America/New_York:20250221T150000
DTEND;TZID=America/New_York:20250221T180000
DTSTAMP:20260420T024117
CREATED:20250217T155228Z
LAST-MODIFIED:20250217T155228Z
UID:27916-1740150000-1740160800@frassboxcannabis.com
SUMMARY:Ayrloom POP UP Event
DESCRIPTION:
URL:https://frassboxcannabis.com/event/ayrloom-pop-up-event/
LOCATION:FRASS BOX CANNABIS\, 3633 KINGSBRIDGE AVE\, BRONX\, 10463\, United States
END:VEVENT
BEGIN:VEVENT
DTSTART;TZID=America/New_York:20250220T150000
DTEND;TZID=America/New_York:20250220T180000
DTSTAMP:20260420T024117
CREATED:20250217T204122Z
LAST-MODIFIED:20250217T204122Z
UID:27924-1740063600-1740074400@frassboxcannabis.com
SUMMARY:Frass Box presents\, a PACKS POP UP Event.
DESCRIPTION:
URL:https://frassboxcannabis.com/event/frass-box-presents-a-packs-pop-up-event/
LOCATION:FRASS BOX CANNABIS\, 3633 KINGSBRIDGE AVE\, BRONX\, 10463\, United States
END:VEVENT
BEGIN:VEVENT
DTSTART;TZID=America/New_York:20250219T120000
DTEND;TZID=America/New_York:20250219T150000
DTSTAMP:20260420T024117
CREATED:20250217T190114Z
LAST-MODIFIED:20250217T190114Z
UID:27921-1739966400-1739977200@frassboxcannabis.com
SUMMARY:The Green Lady POP UP Event\, presented by Frass Box
DESCRIPTION:
URL:https://frassboxcannabis.com/event/the-green-lady-pop-up-event-presented-by-frass-box/
LOCATION:FRASS BOX CANNABIS\, 3633 KINGSBRIDGE AVE\, BRONX\, 10463\, United States
END:VEVENT
BEGIN:VEVENT
DTSTART;TZID=America/New_York:20250125T150000
DTEND;TZID=America/New_York:20250125T180000
DTSTAMP:20260420T024117
CREATED:20250125T004029Z
LAST-MODIFIED:20250125T004029Z
UID:27647-1737817200-1737828000@frassboxcannabis.com
SUMMARY:Runtz Pop UP
DESCRIPTION:
URL:https://frassboxcannabis.com/event/runtz-pop-up/
LOCATION:FRASS BOX CANNABIS\, 3633 KINGSBRIDGE AVE\, BRONX\, 10463\, United States
END:VEVENT
BEGIN:VEVENT
DTSTART;TZID=America/New_York:20250111T150000
DTEND;TZID=America/New_York:20250111T180000
DTSTAMP:20260420T024117
CREATED:20250108T200251Z
LAST-MODIFIED:20250108T200251Z
UID:27488-1736607600-1736618400@frassboxcannabis.com
SUMMARY:Packs Pop Up
DESCRIPTION:
URL:https://frassboxcannabis.com/event/packs-pop-up-2/
LOCATION:FRASS BOX CANNABIS\, 3633 KINGSBRIDGE AVE\, BRONX\, 10463\, United States
END:VEVENT
BEGIN:VEVENT
DTSTART;TZID=America/New_York:20241227T130000
DTEND;TZID=America/New_York:20241227T160000
DTSTAMP:20260420T024117
CREATED:20241226T231828Z
LAST-MODIFIED:20241226T231828Z
UID:27085-1735304400-1735315200@frassboxcannabis.com
SUMMARY:DIME Pop-Up
DESCRIPTION:DIME Pop Up\n 
URL:https://frassboxcannabis.com/event/dime-pop-up-2/
END:VEVENT
BEGIN:VEVENT
DTSTART;TZID=America/New_York:20241219T160000
DTEND;TZID=America/New_York:20241219T190000
DTSTAMP:20260420T024117
CREATED:20241218T211659Z
LAST-MODIFIED:20241218T211659Z
UID:27060-1734624000-1734634800@frassboxcannabis.com
SUMMARY:Cannabals & Kingsroad Pop-Up
DESCRIPTION:Cannabals & Kingsroad Pop-Up
URL:https://frassboxcannabis.com/event/cannabals-kingsroad-pop-up/
LOCATION:FRASS BOX CANNABIS\, 3633 KINGSBRIDGE AVE\, BRONX\, 10463\, United States
END:VEVENT
BEGIN:VEVENT
DTSTART;TZID=America/New_York:20241212T150000
DTEND;TZID=America/New_York:20241212T180000
DTSTAMP:20260420T024117
CREATED:20241204T234156Z
LAST-MODIFIED:20241205T171550Z
UID:26863-1734015600-1734026400@frassboxcannabis.com
SUMMARY:Packs Pop Up
DESCRIPTION:Packs Pop Up!\nFind out why people choose Packs!\nSee what exciting new products are dropping \nThursday 12/12 From 3p-6p\n \n  \n 
URL:https://frassboxcannabis.com/event/packs-pop-up/
LOCATION:FRASS BOX CANNABIS\, 3633 KINGSBRIDGE AVE\, BRONX\, 10463\, United States
END:VEVENT
BEGIN:VEVENT
DTSTART;TZID=America/New_York:20241206T153000
DTEND;TZID=America/New_York:20241206T193000
DTSTAMP:20260420T024117
CREATED:20241204T233216Z
LAST-MODIFIED:20241205T170608Z
UID:26670-1733499000-1733513400@frassboxcannabis.com
SUMMARY:Dank Pop Up
DESCRIPTION:Dank Pop Up\nFind out why this brand is “Dank. By Definition”\nLearn about their process and new products coming out.\nDank You! For stopping by!!
URL:https://frassboxcannabis.com/event/dank-pop-up/
LOCATION:FRASS BOX CANNABIS\, 3633 KINGSBRIDGE AVE\, BRONX\, 10463\, United States
END:VEVENT
BEGIN:VEVENT
DTSTART;VALUE=DATE:20241127
DTEND;VALUE=DATE:20241128
DTSTAMP:20260420T024117
CREATED:20241125T220214Z
LAST-MODIFIED:20241126T214013Z
UID:26684-1732665600-1732751999@frassboxcannabis.com
SUMMARY:Green Wednesday Deals/ matter Pop Up!!!
DESCRIPTION:Green Wednesday Deals\n\n\nHappening ALL DAY November 27th!!!\n-Holiday Boxes and Bundles!!\n-Check out select brands in our Specials\n section!\n* matter Pop Up happening with Megan from 3-6pm*\n\nHAVE A HAPPY FRASSGIVING!!!
URL:https://frassboxcannabis.com/event/green-wednesday-deals/
LOCATION:FRASS BOX CANNABIS\, 3633 KINGSBRIDGE AVE\, BRONX\, 10463\, United States
END:VEVENT
BEGIN:VEVENT
DTSTART;TZID=America/New_York:20241123T140000
DTEND;TZID=America/New_York:20241123T170000
DTSTAMP:20260420T024117
CREATED:20241122T181842Z
LAST-MODIFIED:20241122T181842Z
UID:26635-1732370400-1732381200@frassboxcannabis.com
SUMMARY:Tical Pop Up
DESCRIPTION:  \nTical Pop Up!!                  Come in and met the Tical peeps.                         Join us here at Frass Box Saturday\, November 23rd
URL:https://frassboxcannabis.com/event/tical-pop-up/
LOCATION:FRASS BOX CANNABIS\, 3633 KINGSBRIDGE AVE\, BRONX\, 10463\, United States
END:VEVENT
BEGIN:VEVENT
DTSTART;TZID=America/New_York:20241115T150000
DTEND;TZID=America/New_York:20241115T170000
DTSTAMP:20260420T024117
CREATED:20241109T203214Z
LAST-MODIFIED:20241109T203310Z
UID:26355-1731682800-1731690000@frassboxcannabis.com
SUMMARY:Eaton Pop Up!!
DESCRIPTION:EATON POP-UP\n​Always Traceable.\nAlways Transparent.\nThis is the Eaton Way.\nFrom 3pm- 5pm
URL:https://frassboxcannabis.com/event/eaton-pop-up/
LOCATION:FRASS BOX CANNABIS\, 3633 KINGSBRIDGE AVE\, BRONX\, 10463\, United States
END:VEVENT
BEGIN:VEVENT
DTSTART;TZID=America/New_York:20241108T150000
DTEND;TZID=America/New_York:20241108T150000
DTSTAMP:20260420T024117
CREATED:20241107T152523Z
LAST-MODIFIED:20241107T183251Z
UID:26302-1731078000-1731078000@frassboxcannabis.com
SUMMARY:DIME Pop-up
DESCRIPTION:Join us for pop-up with DIME\nLearn about their vapes and how they got this far!!
URL:https://frassboxcannabis.com/event/dime-pop-up/
LOCATION:FRASS BOX CANNABIS\, 3633 KINGSBRIDGE AVE\, BRONX\, 10463\, United States
END:VEVENT
BEGIN:VEVENT
DTSTART;TZID=America/New_York:20241107T150000
DTEND;TZID=America/New_York:20241107T190000
DTSTAMP:20260420T024117
CREATED:20241107T174413Z
LAST-MODIFIED:20241107T174413Z
UID:26308-1730991600-1731006000@frassboxcannabis.com
SUMMARY:FARMERS GROUP
DESCRIPTION:Farmers Group Pop-Up Today\nFrom 3p-7p
URL:https://frassboxcannabis.com/event/farmers-group/
LOCATION:FRASS BOX CANNABIS\, 3633 KINGSBRIDGE AVE\, BRONX\, 10463\, United States
END:VEVENT
BEGIN:VEVENT
DTSTART;TZID=America/New_York:20241025T150000
DTEND;TZID=America/New_York:20241025T180000
DTSTAMP:20260420T024117
CREATED:20241024T002226Z
LAST-MODIFIED:20241024T002226Z
UID:25667-1729868400-1729879200@frassboxcannabis.com
SUMMARY:ROVE POP UP EVENT THIS FRIDAY 3PM-6PM!!
DESCRIPTION:
URL:https://frassboxcannabis.com/event/rove-pop-up-event-this-friday-3pm-6pm/
LOCATION:FRASS BOX CANNABIS\, 3633 KINGSBRIDGE AVE\, BRONX\, 10463\, United States
END:VEVENT
BEGIN:VEVENT
DTSTART;TZID=America/New_York:20241024T170000
DTEND;TZID=America/New_York:20241024T190000
DTSTAMP:20260420T024117
CREATED:20241023T181720Z
LAST-MODIFIED:20241023T181720Z
UID:25668-1729789200-1729796400@frassboxcannabis.com
SUMMARY:HAUNTED HAPPY HOUR WITH P3!!
DESCRIPTION:
URL:https://frassboxcannabis.com/event/haunted-happy-hour-with-p3/
LOCATION:FRASS BOX CANNABIS\, 3633 KINGSBRIDGE AVE\, BRONX\, 10463\, United States
END:VEVENT
BEGIN:VEVENT
DTSTART;TZID=America/New_York:20241003T150000
DTEND;TZID=America/New_York:20241003T180000
DTSTAMP:20260420T024117
CREATED:20241002T185258Z
LAST-MODIFIED:20241002T185258Z
UID:24907-1727967600-1727978400@frassboxcannabis.com
SUMMARY:AYRLOOM POP UP
DESCRIPTION:
URL:https://frassboxcannabis.com/event/ayrloom-pop-up/
LOCATION:FRASS BOX CANNABIS\, 3633 KINGSBRIDGE AVE\, BRONX\, 10463\, United States
END:VEVENT
BEGIN:VEVENT
DTSTART;TZID=America/New_York:20240928T120000
DTEND;TZID=America/New_York:20240928T150000
DTSTAMP:20260420T024117
CREATED:20240927T011216Z
LAST-MODIFIED:20240927T011823Z
UID:24806-1727524800-1727535600@frassboxcannabis.com
SUMMARY:HOLIDAY POP UP!!!
DESCRIPTION:COME LEARN ABOUT THE VAPES THAT MAKE YOU FEEL LIKE YOU’RE ON HOLIDAY! \nSTARTS AT 12PM!
URL:https://frassboxcannabis.com/event/holiday-pop-up/
LOCATION:FRASS BOX CANNABIS\, 3633 KINGSBRIDGE AVE\, BRONX\, 10463\, United States
ATTACH;FMTTYPE=image/png:https://frassboxcannabis.com/wp-content/uploads/2024/09/holiday-pop-up-flyer.png
END:VEVENT
END:VCALENDAR