BEGIN:VCALENDAR
VERSION:2.0
PRODID:-//Frass Box - ECPv6.15.17.1//NONSGML v1.0//EN
CALSCALE:GREGORIAN
METHOD:PUBLISH
X-WR-CALNAME:Frass Box
X-ORIGINAL-URL:https://frassboxcannabis.com
X-WR-CALDESC:Events for Frass Box
REFRESH-INTERVAL;VALUE=DURATION:PT1H
X-Robots-Tag:noindex
X-PUBLISHED-TTL:PT1H
BEGIN:VTIMEZONE
TZID:America/New_York
BEGIN:DAYLIGHT
TZOFFSETFROM:-0500
TZOFFSETTO:-0400
TZNAME:EDT
DTSTART:20230312T070000
END:DAYLIGHT
BEGIN:STANDARD
TZOFFSETFROM:-0400
TZOFFSETTO:-0500
TZNAME:EST
DTSTART:20231105T060000
END:STANDARD
BEGIN:DAYLIGHT
TZOFFSETFROM:-0500
TZOFFSETTO:-0400
TZNAME:EDT
DTSTART:20240310T070000
END:DAYLIGHT
BEGIN:STANDARD
TZOFFSETFROM:-0400
TZOFFSETTO:-0500
TZNAME:EST
DTSTART:20241103T060000
END:STANDARD
BEGIN:DAYLIGHT
TZOFFSETFROM:-0500
TZOFFSETTO:-0400
TZNAME:EDT
DTSTART:20250309T070000
END:DAYLIGHT
BEGIN:STANDARD
TZOFFSETFROM:-0400
TZOFFSETTO:-0500
TZNAME:EST
DTSTART:20251102T060000
END:STANDARD
END:VTIMEZONE
BEGIN:VEVENT
DTSTART;TZID=America/New_York:20241108T150000
DTEND;TZID=America/New_York:20241108T150000
DTSTAMP:20260419T205459
CREATED:20241107T152523Z
LAST-MODIFIED:20241107T183251Z
UID:26302-1731078000-1731078000@frassboxcannabis.com
SUMMARY:DIME Pop-up
DESCRIPTION:Join us for pop-up with DIME\nLearn about their vapes and how they got this far!!
URL:https://frassboxcannabis.com/event/dime-pop-up/
LOCATION:FRASS BOX CANNABIS\, 3633 KINGSBRIDGE AVE\, BRONX\, 10463\, United States
END:VEVENT
BEGIN:VEVENT
DTSTART;TZID=America/New_York:20241107T150000
DTEND;TZID=America/New_York:20241107T190000
DTSTAMP:20260419T205459
CREATED:20241107T174413Z
LAST-MODIFIED:20241107T174413Z
UID:26308-1730991600-1731006000@frassboxcannabis.com
SUMMARY:FARMERS GROUP
DESCRIPTION:Farmers Group Pop-Up Today\nFrom 3p-7p
URL:https://frassboxcannabis.com/event/farmers-group/
LOCATION:FRASS BOX CANNABIS\, 3633 KINGSBRIDGE AVE\, BRONX\, 10463\, United States
END:VEVENT
BEGIN:VEVENT
DTSTART;TZID=America/New_York:20241025T150000
DTEND;TZID=America/New_York:20241025T180000
DTSTAMP:20260419T205459
CREATED:20241024T002226Z
LAST-MODIFIED:20241024T002226Z
UID:25667-1729868400-1729879200@frassboxcannabis.com
SUMMARY:ROVE POP UP EVENT THIS FRIDAY 3PM-6PM!!
DESCRIPTION:
URL:https://frassboxcannabis.com/event/rove-pop-up-event-this-friday-3pm-6pm/
LOCATION:FRASS BOX CANNABIS\, 3633 KINGSBRIDGE AVE\, BRONX\, 10463\, United States
END:VEVENT
BEGIN:VEVENT
DTSTART;TZID=America/New_York:20241024T170000
DTEND;TZID=America/New_York:20241024T190000
DTSTAMP:20260419T205459
CREATED:20241023T181720Z
LAST-MODIFIED:20241023T181720Z
UID:25668-1729789200-1729796400@frassboxcannabis.com
SUMMARY:HAUNTED HAPPY HOUR WITH P3!!
DESCRIPTION:
URL:https://frassboxcannabis.com/event/haunted-happy-hour-with-p3/
LOCATION:FRASS BOX CANNABIS\, 3633 KINGSBRIDGE AVE\, BRONX\, 10463\, United States
END:VEVENT
BEGIN:VEVENT
DTSTART;TZID=America/New_York:20241003T150000
DTEND;TZID=America/New_York:20241003T180000
DTSTAMP:20260419T205459
CREATED:20241002T185258Z
LAST-MODIFIED:20241002T185258Z
UID:24907-1727967600-1727978400@frassboxcannabis.com
SUMMARY:AYRLOOM POP UP
DESCRIPTION:
URL:https://frassboxcannabis.com/event/ayrloom-pop-up/
LOCATION:FRASS BOX CANNABIS\, 3633 KINGSBRIDGE AVE\, BRONX\, 10463\, United States
END:VEVENT
BEGIN:VEVENT
DTSTART;TZID=America/New_York:20240928T120000
DTEND;TZID=America/New_York:20240928T150000
DTSTAMP:20260419T205459
CREATED:20240927T011216Z
LAST-MODIFIED:20240927T011823Z
UID:24806-1727524800-1727535600@frassboxcannabis.com
SUMMARY:HOLIDAY POP UP!!!
DESCRIPTION:COME LEARN ABOUT THE VAPES THAT MAKE YOU FEEL LIKE YOU’RE ON HOLIDAY! \nSTARTS AT 12PM!
URL:https://frassboxcannabis.com/event/holiday-pop-up/
LOCATION:FRASS BOX CANNABIS\, 3633 KINGSBRIDGE AVE\, BRONX\, 10463\, United States
ATTACH;FMTTYPE=image/png:https://frassboxcannabis.com/wp-content/uploads/2024/09/holiday-pop-up-flyer.png
END:VEVENT
BEGIN:VEVENT
DTSTART;TZID=America/New_York:20240925T160000
DTEND;TZID=America/New_York:20240925T180000
DTSTAMP:20260419T205459
CREATED:20240917T205911Z
LAST-MODIFIED:20240918T011102Z
UID:23400-1727280000-1727287200@frassboxcannabis.com
SUMMARY:THE GREEN LADY POP-UP!!!
DESCRIPTION:Come & Meet The Green Lady!!
URL:https://frassboxcannabis.com/event/the-green-lady-pop-up/
LOCATION:FRASS BOX CANNABIS\, 3633 KINGSBRIDGE AVE\, BRONX\, 10463\, United States
END:VEVENT
BEGIN:VEVENT
DTSTART;TZID=America/New_York:20240920T150000
DTEND;TZID=America/New_York:20240920T170000
DTSTAMP:20260419T205459
CREATED:20240917T010700Z
LAST-MODIFIED:20240918T012333Z
UID:23351-1726844400-1726851600@frassboxcannabis.com
SUMMARY:PUFF PRE-ROLL CANNABIS POP UP EVENT!!
DESCRIPTION:
URL:https://frassboxcannabis.com/event/puff-pre-roll-cannabis-pop-up-event/
LOCATION:FRASS BOX CANNABIS\, 3633 KINGSBRIDGE AVE\, BRONX\, 10463\, United States
END:VEVENT
END:VCALENDAR